BEGIN:VCALENDAR
PRODID:-//dvv-bw.de//dvv.Portalplattform//DE
VERSION:2.0
METHOD:PUBLISH
BEGIN:VEVENT
DTSTART:20261011T163000Z
DTEND:20261011T183000Z
DTSTAMP:20260422T190257Z
UID:523254639502-523254639403-1791669600000
SUMMARY:Willy Astor
LOCATION:Großer Saal\, Charlottenstr. 27\, 72336 Balingen
DESCRIPTION:Achtung: Im Vorverkaufssystem Easy Ticket Service wurde ein Teil der Tickets fälschlicherweise mit dem Aufdruck "Beginn: 19:30 Uhr" verkauft. Der tatsächliche Beginn der Veranstaltung ist um 18:30 Uhr!\n„Reimart und Lachkunde“Prädikat Wortvoll\nIn einer Welt in der kaum mehr was easy ist in Brindisi und nix mehr im Lack am Skagerak\, sich das Universum über und unter uns auch nicht mehr an die Regeln hält\, kommt Musikkomödiant Willy Astor mit neuen Ideen aus seinem Einfallsreich. Als Wolfgang Amadeus Notarzt rettet er nicht nur manchen Abend sondern lässt im besten Fall so manchen Kummer des Alltags vergessen. Also warum unterm Rollkragen Groll tragen!?
CLASS:PUBLIC
X-ALT-DESC;FMTTYPE=text/html:Achtung: Im Vorverkaufssystem Easy Ticket Service wurde ein Teil der Tickets fälschlicherweise mit dem Aufdruck "Beginn: 19:30 Uhr" verkauft. Der tatsächliche Beginn der Veranstaltung ist um 18:30 Uhr!<br>&bdquo;Reimart und Lachkunde&ldquo;Prädikat Wortvoll<br>In einer Welt in der kaum mehr was easy ist in Brindisi und nix mehr im Lack am Skagerak\, sich das Universum über und unter uns auch nicht mehr an die Regeln hält\, kommt Musikkomödiant Willy Astor mit neuen Ideen aus seinem Einfallsreich. Als Wolfgang Amadeus Notarzt rettet er nicht nur manchen Abend sondern lässt im besten Fall so manchen Kummer des Alltags vergessen. Also warum unterm Rollkragen Groll tragen!?
END:VEVENT
END:VCALENDAR
