BEGIN:VCALENDAR
PRODID:-//dvv-bw.de//dvv.Portalplattform//DE
VERSION:2.0
METHOD:PUBLISH
BEGIN:VEVENT
DTSTART:20260626T173000Z
DTEND:20260626T193000Z
DTSTAMP:20260422T190809Z
UID:523254640400-523254640300-1782424800000
SUMMARY:Elena Uhlig & Fritz Karl
LOCATION:Großer Saal\, Charlottenstr. 27\, 72336 Balingen
DESCRIPTION:Elena Uhlig und Fritz Karl\, das beliebte Schauspielerpaar\, präsentieren mit "Beziehungsstatus: erledigt" einen humorvollen und tiefsinnigen Abend über die Höhen und Tiefen des Beziehungslebens.
CLASS:PUBLIC
X-ALT-DESC;FMTTYPE=text/html:Elena Uhlig und Fritz Karl\, das beliebte Schauspielerpaar\, präsentieren mit "Beziehungsstatus: erledigt" einen humorvollen und tiefsinnigen Abend über die Höhen und Tiefen des Beziehungslebens.
END:VEVENT
END:VCALENDAR
